BEGIN:VCALENDAR
VERSION:2.0
CALSCALE:GREGORIAN
PRODID:-//Diputació de Barcelona//DibaCMS//EN
BEGIN:VEVENT
UID:12156
DTSTAMP:20260420T024014
DTSTART:20231124T190000
DTEND:20231124T200000
SUMMARY:25N a Capellades
LOCATION:
METHOD:PUBLISH
X-WR-CALNAME:capellades@capellades.cat
X-WR-TIMEZONE:Europe/Madrid
DESCRIPTION:Aquest divendres començarà la commemoració del 25N.

URI:https://www.capellades.cat/actualitat/agenda/12156-25n-a-capellades.html
CLASS:PUBLIC
END:VEVENT
END:VCALENDAR
