BEGIN:VCALENDAR
VERSION:2.0
CALSCALE:GREGORIAN
PRODID:-//Diputació de Barcelona//DibaCMS//EN
BEGIN:VEVENT
UID:11953
DTSTAMP:20260420T042348
DTSTART:20230812T210000
DTEND:20230812T235900
SUMMARY:Gran sopar, bingo i disco de les entitats
LOCATION:
METHOD:PUBLISH
X-WR-CALNAME:capellades@capellades.cat
X-WR-TIMEZONE:Europe/Madrid
DESCRIPTION:El dissabte 12 d'agost es farà el sopar, bingo i disco de les entitats.

URI:https://www.capellades.cat/actualitat/agenda/gran-sopar-bingo-i-disco-de-les-entitats.html
CLASS:PUBLIC
END:VEVENT
END:VCALENDAR
