BEGIN:VCALENDAR
VERSION:2.0
CALSCALE:GREGORIAN
PRODID:-//Diputació de Barcelona//DibaCMS//EN
BEGIN:VEVENT
UID:11855
DTSTAMP:20260419T134819
DTSTART:20230715T203000
DTEND:20230715T230000
SUMMARY:Bombolles & Tapes
LOCATION:
METHOD:PUBLISH
X-WR-CALNAME:capellades@capellades.cat
X-WR-TIMEZONE:Europe/Madrid
DESCRIPTION:Sopar i degustació el dissabte 15 a les 20:30 al pati de La Lliga, ajornat finalment al 16 de setembre.

URI:https://www.capellades.cat/actualitat/agenda/bombolles-and-tapes.html
CLASS:PUBLIC
END:VEVENT
END:VCALENDAR
