BEGIN:VCALENDAR
VERSION:2.0
CALSCALE:GREGORIAN
PRODID:-//Diputació de Barcelona//DibaCMS//EN
BEGIN:VEVENT
UID:11752
DTSTAMP:20260420T090856
DTSTART:20230518T191500
DTEND:20230518T203000
SUMMARY:Xerrada presentació Centre Holístic 369
LOCATION:
METHOD:PUBLISH
X-WR-CALNAME:capellades@capellades.cat
X-WR-TIMEZONE:Europe/Madrid
DESCRIPTION:El 18 de maig a les 19.15 es farà al Saló Rosa la presentació del Centre Holísitc 369.

URI:https://www.capellades.cat/actualitat/agenda/xerrada-presentacio-centre-holistic-369.html
CLASS:PUBLIC
END:VEVENT
END:VCALENDAR
