BEGIN:VCALENDAR
VERSION:2.0
CALSCALE:GREGORIAN
PRODID:-//Diputació de Barcelona//DibaCMS//EN
BEGIN:VEVENT
UID:11750
DTSTAMP:20260420T091612
DTSTART:20230510T190000
DTEND:20230510T210000
SUMMARY:Xerrada sobre Testaments, herències i donacions
LOCATION:
METHOD:PUBLISH
X-WR-CALNAME:capellades@capellades.cat
X-WR-TIMEZONE:Europe/Madrid
DESCRIPTION:Xerrada per al dimecres 10 de maig a les 7 de la tarda al Teatre La Lliga.

URI:https://www.capellades.cat/actualitat/agenda/xerrada-sobre-testaments-herencies-i-donacions.html
CLASS:PUBLIC
END:VEVENT
END:VCALENDAR
