BEGIN:VCALENDAR
VERSION:2.0
CALSCALE:GREGORIAN
PRODID:-//Diputació de Barcelona//DibaCMS//EN
BEGIN:VEVENT
UID:11699
DTSTAMP:20260420T055148
DTSTART:20230414T190000
DTEND:20230414T210000
SUMMARY:Cicle Gaudí amb La Maternal
LOCATION:
METHOD:PUBLISH
X-WR-CALNAME:capellades@capellades.cat
X-WR-TIMEZONE:Europe/Madrid
DESCRIPTION:Divendres segueix el cicle Gaudí amb "La Maternal"

URI:https://www.capellades.cat/actualitat/agenda/cicle-gaudi-amb-la-maternal.html
CLASS:PUBLIC
END:VEVENT
END:VCALENDAR
