BEGIN:VCALENDAR
VERSION:2.0
CALSCALE:GREGORIAN
PRODID:-//Diputació de Barcelona//DibaCMS//EN
BEGIN:VEVENT
UID:11471
DTSTAMP:20260419T170553
DTSTART:20221202T190000
DTEND:20221202T210000
SUMMARY:Cinema amb El oficio de aprender
LOCATION:
METHOD:PUBLISH
X-WR-CALNAME:capellades@capellades.cat
X-WR-TIMEZONE:Europe/Madrid
DESCRIPTION:Cinema a La Lliga aquest divendres a les 7 de la tarda. 

URI:https://www.capellades.cat/actualitat/agenda/cinema-amb-el-oficio-de-aprender.html
CLASS:PUBLIC
END:VEVENT
END:VCALENDAR
