BEGIN:VCALENDAR
VERSION:2.0
CALSCALE:GREGORIAN
PRODID:-//Diputació de Barcelona//DibaCMS//EN
BEGIN:VEVENT
UID:11388
DTSTAMP:20260419T151652
DTSTART:20221030T120000
DTEND:20221030T140000
SUMMARY:Exposició de pintures de Montse Garcia Olivé
LOCATION:
METHOD:PUBLISH
X-WR-CALNAME:capellades@capellades.cat
X-WR-TIMEZONE:Europe/Madrid
DESCRIPTION:La mostra amb pintures de Montse Garcia Olivé s'inaugura el 30 d'octubre a les 12 del migdia al Saló Rosa.

URI:https://www.capellades.cat/actualitat/agenda/exposicio-de-pintures-de-montse-garcia-olive.html
CLASS:PUBLIC
END:VEVENT
END:VCALENDAR
