BEGIN:VCALENDAR
VERSION:2.0
CALSCALE:GREGORIAN
PRODID:-//Diputació de Barcelona//DibaCMS//EN
BEGIN:VEVENT
UID:11385
DTSTAMP:20260419T182526
DTSTART:20221021T190000
DTEND:20221021T210000
SUMMARY:Dins el Cicle Gaudi arriba Toscana
LOCATION:
METHOD:PUBLISH
X-WR-CALNAME:capellades@capellades.cat
X-WR-TIMEZONE:Europe/Madrid
DESCRIPTION:La pel·lícula d'aquest mes del Cicle Gaudí serà "Toscana".

URI:https://www.capellades.cat/actualitat/agenda/dins-el-cicle-gaudi-arriba-toscana.html
CLASS:PUBLIC
END:VEVENT
END:VCALENDAR
