BEGIN:VCALENDAR
VERSION:2.0
CALSCALE:GREGORIAN
PRODID:-//Diputació de Barcelona//DibaCMS//EN
BEGIN:VEVENT
UID:1052
DTSTAMP:20260421T132140
DTSTART:20170108T120000
DTEND:20170108T000000
SUMMARY:El Quinto de Reis a La Lliga
LOCATION:
METHOD:PUBLISH
X-WR-CALNAME:capellades@capellades.cat
X-WR-TIMEZONE:Europe/Madrid
DESCRIPTION:La cantada del quinto any rera any es va fent tradicional.
A part dels dinerons, us podeu emportar un bon pernil, una llangonissa o un formatge.
Els números es van cantant mentre l'expectació va creixent.
Cal estar atent per reconèixer els noms populars que tenen alguns números: el més menut o el primer de tots, Nadal i Sant Esteve que li va al darrera, els dos aneguets, la nena maca… 

URI:https://www.capellades.cat/actualitat/agenda/el-quinto-de-reis-a-la-lliga.html
CLASS:PUBLIC
END:VEVENT
END:VCALENDAR
