BEGIN:VCALENDAR
VERSION:2.0
CALSCALE:GREGORIAN
PRODID:-//Diputació de Barcelona//DibaCMS//EN
BEGIN:VEVENT
UID:1045
DTSTAMP:20260419T145556
DTSTART:20161229T093000
DTEND:20161229T000000
SUMMARY:Jornades de Salut a Capellades 
LOCATION:
METHOD:PUBLISH
X-WR-CALNAME:capellades@capellades.cat
X-WR-TIMEZONE:Europe/Madrid
DESCRIPTION:Últim acte de les Jornades de Salut a Capellades. La caminada en grup s'iniciarà al CAP de Capellades a les 9.30 h.  



 

 

URI:https://www.capellades.cat/actualitat/agenda/jornades-de-salut-a-capellades-.html
CLASS:PUBLIC
END:VEVENT
END:VCALENDAR
