BEGIN:VCALENDAR
VERSION:2.0
CALSCALE:GREGORIAN
PRODID:-//Diputació de Barcelona//DibaCMS//EN
BEGIN:VEVENT
UID:1012
DTSTAMP:20260419T184230
DTSTART:20161212T153000
DTEND:20161217T203000
SUMMARY:Llibres solidaris - Venda solidaria de llibres de segona mà per a La Marató de TV3
LOCATION:
METHOD:PUBLISH
X-WR-CALNAME:capellades@capellades.cat
X-WR-TIMEZONE:Europe/Madrid
DESCRIPTION:Venta de llibres solidaris per a la Marató de TV3 organitzada per l'Ajuntament de Capellades.  

 

URI:https://www.capellades.cat/actualitat/agenda/1012-llibres-solidaris-venda-solidaria-de-llibres-de-segona-ma-per-a-la-marato-de-tv3.html
CLASS:PUBLIC
END:VEVENT
END:VCALENDAR
